BEGIN:VCALENDAR
VERSION:2.0
PRODID:-//Motorrad Training für Hamburg und Norddeutschland
CALSCALE:GREGORIAN
METHOD:PUBLISH
X-WR-CALNAME:Motorrad Training für Hamburg und Norddeutschland
X-ORIGINAL-URL:https://mot-coach.de/shop/kurventraining/
X-WR-CALDESC:Kurventraining
BEGIN:VEVENT
DTSTART:20220528T080000
DTEND:20220528T170000
SUMMARY:Kurventraining
DESCRIPTION:Ein Kurventraining geeignet vom Anfänger bis zum Fortgeschrittenen. Einteilung in verschiedene Leistungsgruppen nach vorheriger Selbsteinschätzung. Jede Gruppe hat ihren eigenen Instruktor. Ein Wechsel der Gruppe ist möglich.
LOCATION:Fahrendorfer Weg 1, 21502, Geesthacht, Deutschland
END:VEVENT
END:VCALENDAR
